1.0000000000
0.0000000000
0.0000000000
-1.0000000000
615767.4999999993
5315999.5000000000
