399.737212315041630
0.000000000000000
0.000000000000000
-399.044580839079690
1226186.561366701000000
388634.403249008460000
