1.0000000000
0.0
0.0
-1.0000000000
585000.5000000000
5188999.5000000000
