266.810061349693460
0.000000000000000
0.000000000000000
-266.483088235294130
1380146.766993864900000
70646.808455882361000
