6.00000000000000
0.00000000000000
0.00000000000000
-6.00000000000000
1077003.00000000000000
69999.00000000000000
