30.00000000000000
0.00000000000000
0.00000000000000
-30.00000000000000
1245122.43676746800000
287114.92676746816000
